BEGIN:VCALENDAR
VERSION:2.0
PRODID:-//UV Argenteuil - ECPv5.8.1//NONSGML v1.0//EN
CALSCALE:GREGORIAN
METHOD:PUBLISH
X-WR-CALNAME:UV Argenteuil
X-ORIGINAL-URL:https://uvargenteuil.fr
X-WR-CALDESC:évènements pour UV Argenteuil
BEGIN:VTIMEZONE
TZID:Europe/Paris
BEGIN:DAYLIGHT
TZOFFSETFROM:+0100
TZOFFSETTO:+0200
TZNAME:CEST
DTSTART:20240331T010000
END:DAYLIGHT
BEGIN:STANDARD
TZOFFSETFROM:+0200
TZOFFSETTO:+0100
TZNAME:CET
DTSTART:20241027T010000
END:STANDARD
END:VTIMEZONE
BEGIN:VEVENT
DTSTART;VALUE=DATE:20240720
DTEND;VALUE=DATE:20240729
DTSTAMP:20260422T064517
CREATED:20231221T214650Z
LAST-MODIFIED:20231221T214746Z
UID:10676-1721433600-1722211199@uvargenteuil.fr
SUMMARY:Semaine fédérale internationale de cyclotourisme
DESCRIPTION:La semaine fédérale internationale de cyclotourisme pour cette année 2024 se déroulera à Roanne du 20 au 28 juillet.\nLes inscriptions officielles ouvriront le 15 janvier !\n\nDans l’attente\, les adhérents de l’UVA qui souhaite participer à cet événement peuvent se préinscrire ici.\n\nUn grand gite pour 20 personnes est déjà réservé :\nLe Clos du Château – Gite de groupe Loire 20 couchages (grandsgites.com)\n\nLe prix du gîte sera à partager entre les présents. L’UVA\, comme les autres années\, prendra une petite partie du séjour à sa charge ainsi que les frais d’inscriptions à la semaine fédérale.\nAlors\, n’hésitez pas à vous signaler si vous souhaitez partager ensemble cette semaine de vélo et découvrir le département de la Loire avec des soirées conviviales au château.
URL:https://uvargenteuil.fr/event/semaine-federale-internationale-de-cyclotourisme/
CATEGORIES:Balade cyclo,Club,Cyclo,Gravel,Pedestre,Vtt
ATTACH;FMTTYPE=image/jpeg:https://uvargenteuil.fr/wp-content/uploads/2023/12/SEMAINE-FEDERALE-2024.jpg
END:VEVENT
END:VCALENDAR