BEGIN:VCALENDAR
VERSION:2.0
PRODID:-//UV Argenteuil - ECPv5.8.1//NONSGML v1.0//EN
CALSCALE:GREGORIAN
METHOD:PUBLISH
X-WR-CALNAME:UV Argenteuil
X-ORIGINAL-URL:https://uvargenteuil.fr
X-WR-CALDESC:évènements pour UV Argenteuil
BEGIN:VTIMEZONE
TZID:Europe/Paris
BEGIN:DAYLIGHT
TZOFFSETFROM:+0100
TZOFFSETTO:+0200
TZNAME:CEST
DTSTART:20210328T010000
END:DAYLIGHT
BEGIN:STANDARD
TZOFFSETFROM:+0200
TZOFFSETTO:+0100
TZNAME:CET
DTSTART:20211031T010000
END:STANDARD
END:VTIMEZONE
BEGIN:VEVENT
DTSTART;TZID=Europe/Paris:20210606T073000
DTEND;TZID=Europe/Paris:20210606T133000
DTSTAMP:20260425T145213
CREATED:20210604T203722Z
LAST-MODIFIED:20210604T203722Z
UID:8418-1622964600-1622986200@uvargenteuil.fr
SUMMARY:ROUTE - sortie UVA
DESCRIPTION:Pour ce dimanche\, nous nous élancerons sur un parcours inédit de 86 km. Direction Courbevoie\, puis Suresnes et sa belle montée qui nous mènera vers la Celle-Saint-Cloud. Ensuite\, nous tirerons vers les Mureaux pour revenir vers Argenteuil en passant par Conflans-Sainte-Honorine et la Frette-sur-Seine. \nDétail de la trace sur Strava : suivez ce lien
URL:https://uvargenteuil.fr/event/route-sortie-uva-84/
LOCATION:ARGENTEUIL – Monoprix\, 1\, boulevard Jean-Allemane\, ARGENTEUIL\, 95100\, France
CATEGORIES:Cyclo,Sortie
END:VEVENT
END:VCALENDAR