BEGIN:VCALENDAR
VERSION:2.0
PRODID:-//UV Argenteuil - ECPv5.8.1//NONSGML v1.0//EN
CALSCALE:GREGORIAN
METHOD:PUBLISH
X-WR-CALNAME:UV Argenteuil
X-ORIGINAL-URL:https://uvargenteuil.fr
X-WR-CALDESC:évènements pour UV Argenteuil
BEGIN:VTIMEZONE
TZID:Europe/Paris
BEGIN:DAYLIGHT
TZOFFSETFROM:+0100
TZOFFSETTO:+0200
TZNAME:CEST
DTSTART:20240331T010000
END:DAYLIGHT
BEGIN:STANDARD
TZOFFSETFROM:+0200
TZOFFSETTO:+0100
TZNAME:CET
DTSTART:20241027T010000
END:STANDARD
END:VTIMEZONE
BEGIN:VEVENT
DTSTART;TZID=Europe/Paris:20240331T080000
DTEND;TZID=Europe/Paris:20240331T133000
DTSTAMP:20260422T083303
CREATED:20240116T140800Z
LAST-MODIFIED:20240329T214256Z
UID:10779-1711872000-1711891800@uvargenteuil.fr
SUMMARY:ROUTE - sortie UVA
DESCRIPTION:Le parcours au programme de ce dimanche de changement d’heure emmènera les participants jusqu’à Mitry-Mory\, via Paris\, pour ensuite contourner l’aéroport Roissy-Charles-de-Gaule. \nLa distance totale sera de 90 km pour un dénivelé positif de 538 m. \nPour visionner en détail la trace et télécharger le fichier GPX\, voir sur Strava.
URL:https://uvargenteuil.fr/event/route-sortie-uva-177/
LOCATION:ARGENTEUIL – Monoprix\, 1\, boulevard Jean-Allemane\, ARGENTEUIL\, 95100\, France
CATEGORIES:Cyclo,Sortie
ORGANIZER;CN="UVA%20Philippe":MAILTO:uva.cyclo95@gmail.com
END:VEVENT
END:VCALENDAR