BEGIN:VCALENDAR
VERSION:2.0
PRODID:-//UV Argenteuil - ECPv5.8.1//NONSGML v1.0//EN
CALSCALE:GREGORIAN
METHOD:PUBLISH
X-WR-CALNAME:UV Argenteuil
X-ORIGINAL-URL:https://uvargenteuil.fr
X-WR-CALDESC:évènements pour UV Argenteuil
BEGIN:VTIMEZONE
TZID:Europe/Paris
BEGIN:DAYLIGHT
TZOFFSETFROM:+0100
TZOFFSETTO:+0200
TZNAME:CEST
DTSTART:20240331T010000
END:DAYLIGHT
BEGIN:STANDARD
TZOFFSETFROM:+0200
TZOFFSETTO:+0100
TZNAME:CET
DTSTART:20241027T010000
END:STANDARD
END:VTIMEZONE
BEGIN:VEVENT
DTSTART;TZID=Europe/Paris:20240414T073000
DTEND;TZID=Europe/Paris:20240414T140000
DTSTAMP:20260422T065508
CREATED:20240116T145909Z
LAST-MODIFIED:20240412T061552Z
UID:10789-1713079800-1713103200@uvargenteuil.fr
SUMMARY:ROUTE-BALADE - la randonnée des Lacs
DESCRIPTION:Le club des Cyclos du Lac d’Enghien organise sa randonnée annuelle. \nAu programme\, plusieurs parcours seront proposés : \n\nRoute\nP1 distance 45km | d+ 380m | très facile\n– lien trace sur Strava – lien fichier gpx ELB P45\nP2 distance 60km | d+ 530m | facile\n– lien trace sur Strava – lien fichier gpx ELB P60\nP3 distance 85km | d+ 660m | facile\n– lien trace sur Strava – lien fichier gpx ELB P85\nP4 distance 110km | d+ 810m | difficile\n– lien trace sur Strava – lien fichier gpx ELB P110\n\nL’inscription des membres de l’UVA sera prise en compte par le club. \nUn départ groupé de fera de Monoprix à 7h30 ou rendez-vous sur place à 8h00.
URL:https://uvargenteuil.fr/event/route-la-randonnee-des-lacs-3/
LOCATION:ENGHIEN-LES-BAINS – salle des fêtes\, Salle des Fêtes - 18\, avenue de Ceinture\, ENGHIEN-LES-BAINS\, 95880\, France
CATEGORIES:Balade cyclo,Cyclo,Sortie
ATTACH;FMTTYPE=image/jpeg:https://uvargenteuil.fr/wp-content/uploads/2024/04/rando_lac_2024-scaled.jpg
END:VEVENT
END:VCALENDAR