BEGIN:VCALENDAR
VERSION:2.0
PRODID:-//UV Argenteuil - ECPv5.8.1//NONSGML v1.0//EN
CALSCALE:GREGORIAN
METHOD:PUBLISH
X-WR-CALNAME:UV Argenteuil
X-ORIGINAL-URL:https://uvargenteuil.fr
X-WR-CALDESC:évènements pour UV Argenteuil
BEGIN:VTIMEZONE
TZID:Europe/Paris
BEGIN:DAYLIGHT
TZOFFSETFROM:+0100
TZOFFSETTO:+0200
TZNAME:CEST
DTSTART:20210328T010000
END:DAYLIGHT
BEGIN:STANDARD
TZOFFSETFROM:+0200
TZOFFSETTO:+0100
TZNAME:CET
DTSTART:20211031T010000
END:STANDARD
END:VTIMEZONE
BEGIN:VEVENT
DTSTART;TZID=Europe/Paris:20210509T070000
DTEND;TZID=Europe/Paris:20210509T170000
DTSTAMP:20260425T045924
CREATED:20210502T174822Z
LAST-MODIFIED:20210507T195449Z
UID:8308-1620543600-1620579600@uvargenteuil.fr
SUMMARY:ROUTE - repérage BRM 200
DESCRIPTION:Direction plein Est pour notre nouveau BRM qui reprend le début et la fin du parcours des Asperges.\n200 km et 1800 m de dénivelé positif qui nous mènerons du côté d’Ermenonville\, Crouy-sur-Ourcq\, Villeroy et la Stèle de Charles-Péguy.\nPour visionner la trace : cliquez ici\nSi toutefois\, certain ne souhaitaient pas effectuer la totalité du parcours\, ils pourront raccourcir à leur guise la distance.
URL:https://uvargenteuil.fr/event/reperage-de-notre-nouveau-brm-200/
LOCATION:ARGENTEUIL – Monoprix\, 1\, boulevard Jean-Allemane\, ARGENTEUIL\, 95100\, France
CATEGORIES:Cyclo,Sortie
END:VEVENT
END:VCALENDAR