BEGIN:VCALENDAR
VERSION:2.0
PRODID:-//UV Argenteuil - ECPv5.8.1//NONSGML v1.0//EN
CALSCALE:GREGORIAN
METHOD:PUBLISH
X-WR-CALNAME:UV Argenteuil
X-ORIGINAL-URL:https://uvargenteuil.fr
X-WR-CALDESC:évènements pour UV Argenteuil
BEGIN:VTIMEZONE
TZID:Europe/Paris
BEGIN:DAYLIGHT
TZOFFSETFROM:+0100
TZOFFSETTO:+0200
TZNAME:CEST
DTSTART:20220327T010000
END:DAYLIGHT
BEGIN:STANDARD
TZOFFSETFROM:+0200
TZOFFSETTO:+0100
TZNAME:CET
DTSTART:20221030T010000
END:STANDARD
END:VTIMEZONE
BEGIN:VEVENT
DTSTART;TZID=Europe/Paris:20220526T080000
DTEND;TZID=Europe/Paris:20220526T130000
DTSTAMP:20260423T075346
CREATED:20220516T194436Z
LAST-MODIFIED:20220516T194436Z
UID:9141-1653552000-1653570000@uvargenteuil.fr
SUMMARY:BALADE - sortie club
DESCRIPTION:Le parcours\, d’environ 50 km sera défini au départ de la randonnée\, en fonction des participants.
URL:https://uvargenteuil.fr/event/balade-sortie-club-10/
LOCATION:ARGENTEUIL – Monoprix\, 1\, boulevard Jean-Allemane\, ARGENTEUIL\, 95100\, France
CATEGORIES:Balade cyclo,Sortie
END:VEVENT
END:VCALENDAR