BEGIN:VCALENDAR
VERSION:2.0
PRODID:-//UV Argenteuil - ECPv5.8.1//NONSGML v1.0//EN
CALSCALE:GREGORIAN
METHOD:PUBLISH
X-WR-CALNAME:UV Argenteuil
X-ORIGINAL-URL:http://uvargenteuil.fr
X-WR-CALDESC:évènements pour UV Argenteuil
BEGIN:VTIMEZONE
TZID:Europe/Paris
BEGIN:DAYLIGHT
TZOFFSETFROM:+0100
TZOFFSETTO:+0200
TZNAME:CEST
DTSTART:20240331T010000
END:DAYLIGHT
BEGIN:STANDARD
TZOFFSETFROM:+0200
TZOFFSETTO:+0100
TZNAME:CET
DTSTART:20241027T010000
END:STANDARD
END:VTIMEZONE
BEGIN:VEVENT
DTSTART;TZID=Europe/Paris:20241103T080000
DTEND;TZID=Europe/Paris:20241103T130000
DTSTAMP:20260424T015139
CREATED:20241014T065455Z
LAST-MODIFIED:20241028T173625Z
UID:12157-1730620800-1730638800@uvargenteuil.fr
SUMMARY:VTT - randonnée d'Andrésy
DESCRIPTION:Le club d’Andrésy organise sa 20e randonnée VTT qui aura au programme plusieurs parcours de 22\, 35 et 55 km. \nPour toutes informations complémentaires sur cette randonnée\, voir sur le site des organisateurs en suivant le lien ci-après : https://andresy-cyclo.fr/index.php/la-randonnee-verte/ \nLe départ d’Argenteuil est fixé à 8h00 devant la salle Rino-Della-Negra\, ou rdv sur place à Andrésy vers 8h45-9h00. \nL’inscription des membres de l’UVA sera prise en charge par le club.
URL:http://uvargenteuil.fr/event/vtt-randonnee-dandresy/
LOCATION:ANDRÉSY – COSEC\, 19\, rue Ormetaux\, ANDRÉSY\, 78570\, France
CATEGORIES:Sortie,Vtt
ATTACH;FMTTYPE=image/png:http://uvargenteuil.fr/wp-content/uploads/2024/10/ANDRESY_VTT_20241103.png
END:VEVENT
END:VCALENDAR