BEGIN:VCALENDAR
VERSION:2.0
PRODID:-//UV Argenteuil - ECPv5.8.1//NONSGML v1.0//EN
CALSCALE:GREGORIAN
METHOD:PUBLISH
X-WR-CALNAME:UV Argenteuil
X-ORIGINAL-URL:http://uvargenteuil.fr
X-WR-CALDESC:évènements pour UV Argenteuil
BEGIN:VTIMEZONE
TZID:Europe/Paris
BEGIN:DAYLIGHT
TZOFFSETFROM:+0100
TZOFFSETTO:+0200
TZNAME:CEST
DTSTART:20250330T010000
END:DAYLIGHT
BEGIN:STANDARD
TZOFFSETFROM:+0200
TZOFFSETTO:+0100
TZNAME:CET
DTSTART:20251026T010000
END:STANDARD
END:VTIMEZONE
BEGIN:VEVENT
DTSTART;TZID=Europe/Paris:20250504T063000
DTEND;TZID=Europe/Paris:20250504T190000
DTSTAMP:20260423T191857
CREATED:20250421T061520Z
LAST-MODIFIED:20250421T062539Z
UID:12788-1746340200-1746385200@uvargenteuil.fr
SUMMARY:VTT - raid Paris-Roubaix 2025
DESCRIPTION:Le Vélo Club de Roubaix Cyclotourisme organise une randonnée raid VTT qui propose deux boucles de 130 km et 70 km au départ de Roubaix. \nLes tracés\, exigeants\, emprunterons plusieurs secteurs pavés dont les classiques Trouée d’Arenberg\, Pavé du Moulin de Vertain\, Pavé de l’Arbre. \nCe sont 37 tronçons représentant 31 km qui attendent les participants du Raid (130 km). La Pavée (70 km) comporte elle 22 secteurs pour 13\,5 km. \nPour les participants de l’UVA\, départ la veille en voiture est prévu\, avec une nuit d’hôtel à Roubaix afin de pouvoir se présenter à l’aube pour le départ de la randonnée. Retour prévu le dimanche soir après l’arrivée. \nLes frais de déplacement et d’inscription pour les membres de l’UVA seront pris en charge par le club. 
URL:http://uvargenteuil.fr/event/vtt-raid-paris-roubaix-2025/
LOCATION:ROUBAIX – vélodrome de Roubaix\, Parc des Sports\, avenue Fleming\, ROUBAIX\, 59100\, France
CATEGORIES:Ecole-Cyclo,Vtt
ATTACH;FMTTYPE=image/jpeg:http://uvargenteuil.fr/wp-content/uploads/2025/04/affiche-A4-OK-scaled.jpg
END:VEVENT
END:VCALENDAR