BEGIN:VCALENDAR
VERSION:2.0
PRODID:-//UV Argenteuil - ECPv5.8.1//NONSGML v1.0//EN
CALSCALE:GREGORIAN
METHOD:PUBLISH
X-WR-CALNAME:UV Argenteuil
X-ORIGINAL-URL:http://uvargenteuil.fr
X-WR-CALDESC:évènements pour UV Argenteuil
BEGIN:VTIMEZONE
TZID:Europe/Paris
BEGIN:DAYLIGHT
TZOFFSETFROM:+0100
TZOFFSETTO:+0200
TZNAME:CEST
DTSTART:20240331T010000
END:DAYLIGHT
BEGIN:STANDARD
TZOFFSETFROM:+0200
TZOFFSETTO:+0100
TZNAME:CET
DTSTART:20241027T010000
END:STANDARD
END:VTIMEZONE
BEGIN:VEVENT
DTSTART;TZID=Europe/Paris:20241117T080000
DTEND;TZID=Europe/Paris:20241117T130000
DTSTAMP:20260423T224602
CREATED:20240116T212208Z
LAST-MODIFIED:20241014T071105Z
UID:10838-1731830400-1731848400@uvargenteuil.fr
SUMMARY:VTT - la Frépillonnaise
DESCRIPTION:Le Cyclotourisme Sport de Frépillon organise sa randonnée VTT. Plusieurs parcours seront au programme :    \n\nP1 – distance de 18km – très facile\nP2 – distance de 30km  – facile\nP3 – distance de 40km – difficile\nP4 – distance de 50km – très difficile\n\nL’inscription des membres de l’UVA sera prise en charge par le club.
URL:http://uvargenteuil.fr/event/vtt-la-frepillonnaise-4/
LOCATION:FRÉPILLON – Espace Eugène-Delacroix\, 2\, rue du Coudray\, FRÉPILLON\, 95740\, France
CATEGORIES:Sortie,Vtt
ATTACH;FMTTYPE=image/jpeg:http://uvargenteuil.fr/wp-content/uploads/2024/10/FREPILLONAISE-VTT-2024.jpg
END:VEVENT
END:VCALENDAR