BEGIN:VCALENDAR
VERSION:2.0
PRODID:-//UV Argenteuil - ECPv5.8.1//NONSGML v1.0//EN
CALSCALE:GREGORIAN
METHOD:PUBLISH
X-WR-CALNAME:UV Argenteuil
X-ORIGINAL-URL:http://uvargenteuil.fr
X-WR-CALDESC:évènements pour UV Argenteuil
BEGIN:VTIMEZONE
TZID:Europe/Paris
BEGIN:DAYLIGHT
TZOFFSETFROM:+0100
TZOFFSETTO:+0200
TZNAME:CEST
DTSTART:20240331T010000
END:DAYLIGHT
BEGIN:STANDARD
TZOFFSETFROM:+0200
TZOFFSETTO:+0100
TZNAME:CET
DTSTART:20241027T010000
END:STANDARD
END:VTIMEZONE
BEGIN:VEVENT
DTSTART;TZID=Europe/Paris:20241218T093000
DTEND;TZID=Europe/Paris:20241218T150000
DTSTAMP:20260423T160530
CREATED:20241127T092917Z
LAST-MODIFIED:20241216T101412Z
UID:12369-1734514200-1734534000@uvargenteuil.fr
SUMMARY:ROUTE - sortie UVA
DESCRIPTION:Le parcours de ce jour\, au départ d’Herblay\, emmènera les participants sur une boucle de 65 km\, du côté de Poissy\, Crespières et Davron. \nPour visionner la trace en détail et télécharger le fichier gpx\, voir sur Strava.
URL:http://uvargenteuil.fr/event/route-sortie-uva-232/
LOCATION:HERBLAY – « bar des Amis »\, avenue de la Chesnaie\, HERBLAY\, 95220\, France
CATEGORIES:Balade cyclo,Cyclo,Sortie
ORGANIZER;CN="UVA%20Philippe":MAILTO:uva.cyclo95@gmail.com
END:VEVENT
END:VCALENDAR