BEGIN:VCALENDAR
VERSION:2.0
PRODID:-//UV Argenteuil - ECPv5.8.1//NONSGML v1.0//EN
CALSCALE:GREGORIAN
METHOD:PUBLISH
X-WR-CALNAME:UV Argenteuil
X-ORIGINAL-URL:http://uvargenteuil.fr
X-WR-CALDESC:évènements pour UV Argenteuil
BEGIN:VTIMEZONE
TZID:Europe/Paris
BEGIN:DAYLIGHT
TZOFFSETFROM:+0100
TZOFFSETTO:+0200
TZNAME:CEST
DTSTART:20250330T010000
END:DAYLIGHT
BEGIN:STANDARD
TZOFFSETFROM:+0200
TZOFFSETTO:+0100
TZNAME:CET
DTSTART:20251026T010000
END:STANDARD
END:VTIMEZONE
BEGIN:VEVENT
DTSTART;TZID=Europe/Paris:20250119T083000
DTEND;TZID=Europe/Paris:20250119T133000
DTSTAMP:20260425T124903
CREATED:20241030T205434Z
LAST-MODIFIED:20250118T074009Z
UID:12260-1737275400-1737293400@uvargenteuil.fr
SUMMARY:ROUTE – sortie UVA
DESCRIPTION:Pour ce dimanche matin\, le circuit proposé\, de 70 km\, passera par Suresnes et son Mont-Valérien pour ensuite prendre la direction du parc du château de Versailles puis Villepreux. Viendra alors le moment du retour via Marly-le-Roi et Saint-Germain-en-Laye. \nPour visionner en détail la trace et télécharger le fichier gpx\, voir sur Strava.
URL:http://uvargenteuil.fr/event/route-sortie-uva-221/
LOCATION:ARGENTEUIL – Monoprix\, 1\, boulevard Jean-Allemane\, ARGENTEUIL\, 95100\, France
CATEGORIES:Cyclo,Sortie
ORGANIZER;CN="UVA%20Philippe":MAILTO:uva.cyclo95@gmail.com
END:VEVENT
END:VCALENDAR