BEGIN:VCALENDAR
VERSION:2.0
PRODID:-//UV Argenteuil - ECPv5.8.1//NONSGML v1.0//EN
CALSCALE:GREGORIAN
METHOD:PUBLISH
X-WR-CALNAME:UV Argenteuil
X-ORIGINAL-URL:http://uvargenteuil.fr
X-WR-CALDESC:évènements pour UV Argenteuil
BEGIN:VTIMEZONE
TZID:Europe/Paris
BEGIN:DAYLIGHT
TZOFFSETFROM:+0100
TZOFFSETTO:+0200
TZNAME:CEST
DTSTART:20250330T010000
END:DAYLIGHT
BEGIN:STANDARD
TZOFFSETFROM:+0200
TZOFFSETTO:+0100
TZNAME:CET
DTSTART:20251026T010000
END:STANDARD
END:VTIMEZONE
BEGIN:VEVENT
DTSTART;TZID=Europe/Paris:20250105T083000
DTEND;TZID=Europe/Paris:20250105T133000
DTSTAMP:20260425T124406
CREATED:20241030T205157Z
LAST-MODIFIED:20250102T214729Z
UID:12256-1736065800-1736083800@uvargenteuil.fr
SUMMARY:ROUTE – sortie UVA
DESCRIPTION:Il est grand temps d’éliminer quelques calories après la période des fêtes. Ce dimanche matin\, pour cette première sortie club de l’année\, cela sera possible au travers du parcours proposé qui emmènera les participants du côté de Longuesse pour une distance de 75 km avec environ 600 m de dénivelé positif. \nPour visionner en détail la trace et télécharger le fichier gpx\, voir sur Strava.
URL:http://uvargenteuil.fr/event/route-sortie-uva-219/
LOCATION:ARGENTEUIL – Monoprix\, 1\, boulevard Jean-Allemane\, ARGENTEUIL\, 95100\, France
CATEGORIES:Cyclo,Sortie
ORGANIZER;CN="UVA%20Philippe":MAILTO:uva.cyclo95@gmail.com
END:VEVENT
END:VCALENDAR