BEGIN:VCALENDAR
VERSION:2.0
PRODID:-//UV Argenteuil - ECPv5.8.1//NONSGML v1.0//EN
CALSCALE:GREGORIAN
METHOD:PUBLISH
X-WR-CALNAME:UV Argenteuil
X-ORIGINAL-URL:http://uvargenteuil.fr
X-WR-CALDESC:évènements pour UV Argenteuil
BEGIN:VTIMEZONE
TZID:Europe/Paris
BEGIN:DAYLIGHT
TZOFFSETFROM:+0100
TZOFFSETTO:+0200
TZNAME:CEST
DTSTART:20240331T010000
END:DAYLIGHT
BEGIN:STANDARD
TZOFFSETFROM:+0200
TZOFFSETTO:+0100
TZNAME:CET
DTSTART:20241027T010000
END:STANDARD
END:VTIMEZONE
BEGIN:VEVENT
DTSTART;TZID=Europe/Paris:20241027T080000
DTEND;TZID=Europe/Paris:20241027T130000
DTSTAMP:20260424T015347
CREATED:20241007T074926Z
LAST-MODIFIED:20241025T130858Z
UID:12137-1730016000-1730034000@uvargenteuil.fr
SUMMARY:ROUTE - sortie UVA
DESCRIPTION:Le parcours de ce dimanche\, jour de passage à l’heure d’hiver\, passera pour commencer à Saint-Gratien afin d’associer l’équipage du tandem Rosa – Jean-Marc. Ensuite\, la route prendra la direction d’Auvers pour gagner Champagne-sur-Oise puis Boran-sur-Oise avant de revenir sur Argenteuil via Asnières et Beaumont. Le tout pour une distance de 85 km d’Argenteuil\, avec un dénivelé positif de 560 m. \nPour plus de détail sur le tracé et télécharger le fichier gpx\, voir sur Strava.
URL:http://uvargenteuil.fr/event/route-sortie-uva-205/
LOCATION:ARGENTEUIL – Monoprix\, 1\, boulevard Jean-Allemane\, ARGENTEUIL\, 95100\, France
CATEGORIES:Cyclo,Sortie
ORGANIZER;CN="UVA%20Philippe":MAILTO:uva.cyclo95@gmail.com
END:VEVENT
END:VCALENDAR