BEGIN:VCALENDAR
VERSION:2.0
PRODID:-//UV Argenteuil - ECPv5.8.1//NONSGML v1.0//EN
CALSCALE:GREGORIAN
METHOD:PUBLISH
X-WR-CALNAME:UV Argenteuil
X-ORIGINAL-URL:http://uvargenteuil.fr
X-WR-CALDESC:évènements pour UV Argenteuil
BEGIN:VTIMEZONE
TZID:Europe/Paris
BEGIN:DAYLIGHT
TZOFFSETFROM:+0100
TZOFFSETTO:+0200
TZNAME:CEST
DTSTART:20240331T010000
END:DAYLIGHT
BEGIN:STANDARD
TZOFFSETFROM:+0200
TZOFFSETTO:+0100
TZNAME:CET
DTSTART:20241027T010000
END:STANDARD
END:VTIMEZONE
BEGIN:VEVENT
DTSTART;TZID=Europe/Paris:20241020T080000
DTEND;TZID=Europe/Paris:20241020T133000
DTSTAMP:20260424T000827
CREATED:20241007T074822Z
LAST-MODIFIED:20241018T071030Z
UID:12135-1729411200-1729431000@uvargenteuil.fr
SUMMARY:ROUTE - Toboggan Meudonnais
DESCRIPTION:Pour la première fois\, l’UVA inscrit au calendrier de ses sorties la réputée randonnée Toboggan Meudonnais\, organisée chaque année depuis plus de 35 ans par l’ASM Cyclo. C’est l’une des plus importantes randonnées cyclotouristes en Île de France avec des célèbres côtes de la Vallée de Chevreuse au programme. \nMais cette célébrité régionale est également due à ses ravitaillements exceptionnels : en plus des traditionnels gâteaux\, oranges\, fruits secs\, chocolats\, cette randonnée permet de déguster des huitres\, du foie gras et du saumon fumé et cette nouvelle session ne dérogera pas à cette règle. \nTrois parcours de 88\, 68 et 48 km sont proposés. Mais à ces distances\, il faut ajouter les 32km pour faire l’aller et le retour entre Argenteuil et Meudon. \nTracé de 85km\, comprenant l’aller-retour d’Argenteuil et le parcours de 48 km à télécharger à partir de Strava. \nLes frais d’inscriptions pour les membres de l’UVA seront pris en charge par le club. Toutefois\, le tarif établi par les organisateurs de 5 euros pour toute inscription passée avant vendredi 18 octobre à 23h55\, passant ensuite à 10 euros\, ils vous est demandé de vous manifester rapidement afin que l’UVA puisse établir une inscription groupée avant cette échéance afin d’éviter un surcoût non négligeable. \nRendez-vous à 8h00 devant Monoprix pour un départ groupé en vélo ou rendez-vous sur place vers 8h45.
URL:http://uvargenteuil.fr/event/route-sortie-uva-204/
LOCATION:MEUDON – stade Marcel Bec\, Route du Pavillon de l'Abbé\, MEUDON\, 92190\, France
CATEGORIES:Cyclo,Sortie
ORGANIZER;CN="UVA%20Philippe":MAILTO:uva.cyclo95@gmail.com
END:VEVENT
END:VCALENDAR