BEGIN:VCALENDAR
VERSION:2.0
PRODID:-//UV Argenteuil - ECPv5.8.1//NONSGML v1.0//EN
CALSCALE:GREGORIAN
METHOD:PUBLISH
X-WR-CALNAME:UV Argenteuil
X-ORIGINAL-URL:http://uvargenteuil.fr
X-WR-CALDESC:évènements pour UV Argenteuil
BEGIN:VTIMEZONE
TZID:Europe/Paris
BEGIN:DAYLIGHT
TZOFFSETFROM:+0100
TZOFFSETTO:+0200
TZNAME:CEST
DTSTART:20240331T010000
END:DAYLIGHT
BEGIN:STANDARD
TZOFFSETFROM:+0200
TZOFFSETTO:+0100
TZNAME:CET
DTSTART:20241027T010000
END:STANDARD
END:VTIMEZONE
BEGIN:VEVENT
DTSTART;TZID=Europe/Paris:20241013T080000
DTEND;TZID=Europe/Paris:20241013T130000
DTSTAMP:20260423T224602
CREATED:20241007T074648Z
LAST-MODIFIED:20241010T200532Z
UID:12133-1728806400-1728824400@uvargenteuil.fr
SUMMARY:ROUTE - sortie UVA
DESCRIPTION:La sortie de ce dimanche matin emmènera\, pour commencer\, les participants à Saint-Gratien afin d’associer au groupe l’équipe du tandem\, pour ensuite partir du côté de Fontenay-en-Parisis\, Luzarches puis Beaumont-sur-Oise\, pour un total de 83 km et un dénivelé positif de 742 m\, au départ d’Argenteuil. \nPour visionner la trace au départ d’Argenteuil et télécharger le fichier gpx\, voir sur Strava. \nPour visionner la trace de 74 km\, 663 m de d+\, au départ de Saint-Gratien et télécharger le fichier gpx\, voir sur Strava.
URL:http://uvargenteuil.fr/event/route-sortie-uva-203/
LOCATION:ARGENTEUIL – Monoprix\, 1\, boulevard Jean-Allemane\, ARGENTEUIL\, 95100\, France
CATEGORIES:Cyclo,Sortie
ORGANIZER;CN="UVA%20Philippe":MAILTO:uva.cyclo95@gmail.com
END:VEVENT
END:VCALENDAR