BEGIN:VCALENDAR
VERSION:2.0
PRODID:-//UV Argenteuil - ECPv5.8.1//NONSGML v1.0//EN
CALSCALE:GREGORIAN
METHOD:PUBLISH
X-WR-CALNAME:UV Argenteuil
X-ORIGINAL-URL:http://uvargenteuil.fr
X-WR-CALDESC:évènements pour UV Argenteuil
BEGIN:VTIMEZONE
TZID:Europe/Paris
BEGIN:DAYLIGHT
TZOFFSETFROM:+0100
TZOFFSETTO:+0200
TZNAME:CEST
DTSTART:20240331T010000
END:DAYLIGHT
BEGIN:STANDARD
TZOFFSETFROM:+0200
TZOFFSETTO:+0100
TZNAME:CET
DTSTART:20241027T010000
END:STANDARD
END:VTIMEZONE
BEGIN:VEVENT
DTSTART;TZID=Europe/Paris:20241009T083000
DTEND;TZID=Europe/Paris:20241009T130000
DTSTAMP:20260424T003458
CREATED:20241007T074413Z
LAST-MODIFIED:20241008T183947Z
UID:12131-1728462600-1728478800@uvargenteuil.fr
SUMMARY:ANNULÉE - sortie UVA
DESCRIPTION:Sortie ANNULÉE en raison des mauvaises conditions météorologiques. \nCe mercredi\, la sortie partira de Monoprix à 8h30\, en direction de Saint-Gratien afin d’associer le tandem R-JM\, pour ensuite se diriger vers Luzarches et Viarmes. \nPour tous les détails du parcours et télécharger la trace GPX\, voir sur Strava.
URL:http://uvargenteuil.fr/event/route-sortie-uva-202/
LOCATION:ARGENTEUIL – Monoprix\, 1\, boulevard Jean-Allemane\, ARGENTEUIL\, 95100\, France
CATEGORIES:Balade cyclo,Cyclo,Sortie
ORGANIZER;CN="UVA%20Philippe":MAILTO:uva.cyclo95@gmail.com
END:VEVENT
END:VCALENDAR