BEGIN:VCALENDAR
VERSION:2.0
PRODID:-//UV Argenteuil - ECPv5.8.1//NONSGML v1.0//EN
CALSCALE:GREGORIAN
METHOD:PUBLISH
X-WR-CALNAME:UV Argenteuil
X-ORIGINAL-URL:http://uvargenteuil.fr
X-WR-CALDESC:évènements pour UV Argenteuil
BEGIN:VTIMEZONE
TZID:Europe/Paris
BEGIN:DAYLIGHT
TZOFFSETFROM:+0100
TZOFFSETTO:+0200
TZNAME:CEST
DTSTART:20250330T010000
END:DAYLIGHT
BEGIN:STANDARD
TZOFFSETFROM:+0200
TZOFFSETTO:+0100
TZNAME:CET
DTSTART:20251026T010000
END:STANDARD
END:VTIMEZONE
BEGIN:VEVENT
DTSTART;VALUE=DATE:20250628
DTEND;VALUE=DATE:20250630
DTSTAMP:20260426T063314
CREATED:20241127T090841Z
LAST-MODIFIED:20250608T202406Z
UID:12356-1751068800-1751241599@uvargenteuil.fr
SUMMARY:ROUTE - randonnée Paris-la Mer CCV
DESCRIPTION:Le Cyclo-Club du Vexin (95) vous propose une belle randonnée pour aller voir la mer les 28 et 29 juin 2025. \n                                                                          \nEn partant de Saint-Ouen-l’Aumône ou de Gisors\, le samedi matin\, vous traverserez le parc régional du Vexin\, les départements de l’Oise\, de l’Eure et de la Seine Maritime\, pour arriver à Fécamp\, sur le littoral de la côte d’Albâtre. Retour le lendemain.\n\nLes parcours (kilométrage aller/retour) : deux parcours sont proposés pour rendre la randonnée accessible à tous :\n\n\nPLM Light – départ de Gisors 270 km\nPLM Classic – départ de Saint-Ouen-l’Aumône 360 km\n\nLes randonneurs et les amateurs de BPF découvriront des itinéraires toujours très appréciés\, tout comme les très jolis villages de Lyons-la-Forêt (27)\, les Andelys (27) et la Bouille (76) par exemple.\n\nL’hébergement est prévu à Colleville dans une résidence de tourisme.\n\n\nAttention\, les places sont limitées et la clôture des inscriptions arrêtée au 15 juin 2025 ! \n\n\nÂge minimum pour participer : 18 ans.\n\nBulletin d’inscription PLM 2025\n\nL’UVA prendra à sa charge une partie des frais de participation pour ses adhérents.
URL:http://uvargenteuil.fr/event/route-randonnee-paris-la-mer/
CATEGORIES:Cyclo,Sortie
ATTACH;FMTTYPE=image/jpeg:http://uvargenteuil.fr/wp-content/uploads/2024/11/PLM-2025_CCV-scaled.jpg
END:VEVENT
END:VCALENDAR