BEGIN:VCALENDAR
VERSION:2.0
PRODID:-//UV Argenteuil - ECPv5.8.1//NONSGML v1.0//EN
CALSCALE:GREGORIAN
METHOD:PUBLISH
X-WR-CALNAME:UV Argenteuil
X-ORIGINAL-URL:http://uvargenteuil.fr
X-WR-CALDESC:évènements pour UV Argenteuil
BEGIN:VTIMEZONE
TZID:Europe/Paris
BEGIN:DAYLIGHT
TZOFFSETFROM:+0100
TZOFFSETTO:+0200
TZNAME:CEST
DTSTART:20250330T010000
END:DAYLIGHT
BEGIN:STANDARD
TZOFFSETFROM:+0200
TZOFFSETTO:+0100
TZNAME:CET
DTSTART:20251026T010000
END:STANDARD
END:VTIMEZONE
BEGIN:VEVENT
DTSTART;TZID=Europe/Paris:20250518T070000
DTEND;TZID=Europe/Paris:20250518T141500
DTSTAMP:20260426T063258
CREATED:20241128T191001Z
LAST-MODIFIED:20250512T205349Z
UID:12457-1747551600-1747577700@uvargenteuil.fr
SUMMARY:ROUTE - la Mérielloise
DESCRIPTION:Le club cyclo de Mériel organise sa traditionnelle randonnée route « la Mérielloise » et convie pour cette occasion l’ensemble des cyclos de la région. \nAu programme \, quatre parcours :\n– 38 km\, lien vers Strava ;\n– 48 km\, lien vers Strava ;\n– 75 km\, lien vers Strava ;\n– 94 km\, lien vers Strava. \nTarifs : \n\nAdulte avec licence : 6 €\nJeune avec licence : gratuit\nAdulte : 9 €\nJeune : gratuit\n\nLes frais d’inscription pour les adhérents de l’UVA seront pris en charge par le club. \nUn départ groupé à vélo se fera à 7h00 devant le Monoprix d’Argenteuil mais au vu de la distance pour se rendre à Mériel (25 km) une approche en voiture sera organisée. N’hésitez pas à vous manifester au préalable afin de permettre l’organisation logistique de ce déplacement.
URL:http://uvargenteuil.fr/event/route-la-merielloise-6/
LOCATION:MÉRIEL – espace Rive Gauche\, rue des Petits-Prés\, MÉRIEL\, 95630\, France
CATEGORIES:Cyclo,Sortie
ATTACH;FMTTYPE=image/jpeg:http://uvargenteuil.fr/wp-content/uploads/2025/05/MERIELLOISE_2025.jpg
ORGANIZER;CN="UVA%20Philippe":MAILTO:uva.cyclo95@gmail.com
END:VEVENT
END:VCALENDAR