BEGIN:VCALENDAR
VERSION:2.0
PRODID:-//UV Argenteuil - ECPv5.8.1//NONSGML v1.0//EN
CALSCALE:GREGORIAN
METHOD:PUBLISH
X-WR-CALNAME:UV Argenteuil
X-ORIGINAL-URL:http://uvargenteuil.fr
X-WR-CALDESC:évènements pour UV Argenteuil
BEGIN:VTIMEZONE
TZID:Europe/Paris
BEGIN:DAYLIGHT
TZOFFSETFROM:+0100
TZOFFSETTO:+0200
TZNAME:CEST
DTSTART:20250330T010000
END:DAYLIGHT
BEGIN:STANDARD
TZOFFSETFROM:+0200
TZOFFSETTO:+0100
TZNAME:CET
DTSTART:20251026T010000
END:STANDARD
END:VTIMEZONE
BEGIN:VEVENT
DTSTART;TZID=Europe/Paris:20250831T073000
DTEND;TZID=Europe/Paris:20250831T140000
DTSTAMP:20260426T063054
CREATED:20241127T135217Z
LAST-MODIFIED:20250814T185130Z
UID:12425-1756625400-1756648800@uvargenteuil.fr
SUMMARY:ROUTE - la Jacques Daguerre
DESCRIPTION:L’A.C. Sport Cormeillais organise sa randonnée la Jacques Daguerre en ce dernier dimanche d’août. \nAu programme : \n\nP1 distance 43 km – dénivelé + 165 m\nP2 distance 61 km – dénivelé + 279 m\nP3 distance 84 km – dénivelé + 443 m\nP4 distance 102 km – dénivelé + 657 m\n\nPour les traces gpx\, voir sur le site des organisateurs en cliquant ici. \nTarifs : \n\nAdulte avec licence : 5 €\nJeune avec licence : gratuit\nAdulte : 8 €\nJeune : gratuit\n\nLes frais d’inscription des adhérents de l’UVA seront pris en charge par le club. \nUn départ à vélo se fera à 7h30 devant le Monoprix d’Argenteuil ou rendez-vous sur place au alentour de 8h00.
URL:http://uvargenteuil.fr/event/route-la-jacques-daguerre/
LOCATION:CORMEILLES-EN-PARISIS – école Alsace-Lorraine\, Impasse de Reims\, CORMEILLES-EN-PARISIS\, 95240\, France
CATEGORIES:Balade cyclo,Cyclo,Sortie
ATTACH;FMTTYPE=image/jpeg:http://uvargenteuil.fr/wp-content/uploads/2025/08/LA-JACQUES-DAGUERRE-2025-scaled.jpg
ORGANIZER;CN="UVA%20Philippe":MAILTO:uva.cyclo95@gmail.com
END:VEVENT
END:VCALENDAR