BEGIN:VCALENDAR
VERSION:2.0
PRODID:-//UV Argenteuil - ECPv5.8.1//NONSGML v1.0//EN
CALSCALE:GREGORIAN
METHOD:PUBLISH
X-WR-CALNAME:UV Argenteuil
X-ORIGINAL-URL:http://uvargenteuil.fr
X-WR-CALDESC:évènements pour UV Argenteuil
BEGIN:VTIMEZONE
TZID:Europe/Paris
BEGIN:DAYLIGHT
TZOFFSETFROM:+0100
TZOFFSETTO:+0200
TZNAME:CEST
DTSTART:20250330T010000
END:DAYLIGHT
BEGIN:STANDARD
TZOFFSETFROM:+0200
TZOFFSETTO:+0100
TZNAME:CET
DTSTART:20251026T010000
END:STANDARD
END:VTIMEZONE
BEGIN:VEVENT
DTSTART;TZID=Europe/Paris:20250119T080000
DTEND;TZID=Europe/Paris:20250119T140000
DTSTAMP:20260425T143335
CREATED:20241124T202208Z
LAST-MODIFIED:20241124T202428Z
UID:12331-1737273600-1737295200@uvargenteuil.fr
SUMMARY:MARCHE - les cyclos du lac d'Enghien
DESCRIPTION:La randonnée pédestre du Club des Cyclos du Lac d’Enghien est organisée le dimanche 19 janvier 2025 au départ du parc des sports du gymnase Nelson Mandela de Montmorency (95).
URL:http://uvargenteuil.fr/event/marche-les-cyclos-du-lac-denghien/
LOCATION:MONTMORENCY – gymnase Nelson-Mandela\, 31\, chemin de la Butte aux Pères\, MONTMORENCY\, 95160\, France
CATEGORIES:Pedestre,Sortie
ATTACH;FMTTYPE=image/jpeg:http://uvargenteuil.fr/wp-content/uploads/2024/11/MARCHE-ENGHIEN-2025-scaled.jpg
END:VEVENT
END:VCALENDAR