BEGIN:VCALENDAR
VERSION:2.0
PRODID:-//UV Argenteuil - ECPv5.8.1//NONSGML v1.0//EN
CALSCALE:GREGORIAN
METHOD:PUBLISH
X-WR-CALNAME:UV Argenteuil
X-ORIGINAL-URL:http://uvargenteuil.fr
X-WR-CALDESC:évènements pour UV Argenteuil
BEGIN:VTIMEZONE
TZID:Europe/Paris
BEGIN:DAYLIGHT
TZOFFSETFROM:+0100
TZOFFSETTO:+0200
TZNAME:CEST
DTSTART:20250330T010000
END:DAYLIGHT
BEGIN:STANDARD
TZOFFSETFROM:+0200
TZOFFSETTO:+0100
TZNAME:CET
DTSTART:20251026T010000
END:STANDARD
END:VTIMEZONE
BEGIN:VEVENT
DTSTART;TZID=Europe/Paris:20251116T080000
DTEND;TZID=Europe/Paris:20251116T160000
DTSTAMP:20260424T082540
CREATED:20251003T125625Z
LAST-MODIFIED:20251003T130332Z
UID:13832-1763280000-1763308800@uvargenteuil.fr
SUMMARY:MARCHE - la marche du Vexin 2025
DESCRIPTION:Le CCV convie les clubs de la région qui souhaite laisser le vélo de côté pour une journée à sa traditionnelle manifestation automnale\, la « marche du Vexin ».\n\nLes frais d’inscription pour les membres de l’UVA seront pris en charge par le club.\n\nPour ceux qui seraient intéressés par cette randonnée\, ne pas hésiter à se manifester quelques jours avant afin d’envisager l’organisation d’un covoiturage.
URL:http://uvargenteuil.fr/event/marche-la-marche-du-vexin-2025/
LOCATION:CHARS – place de la Mairie\, place de la Mairie\, CHARS\, 95750\, France
CATEGORIES:Pedestre,Sortie
ATTACH;FMTTYPE=image/jpeg:http://uvargenteuil.fr/wp-content/uploads/2025/10/Marche_du_Vexin_2025-scaled.jpg
END:VEVENT
END:VCALENDAR