BEGIN:VCALENDAR
VERSION:2.0
PRODID:-//UV Argenteuil - ECPv5.8.1//NONSGML v1.0//EN
CALSCALE:GREGORIAN
METHOD:PUBLISH
X-WR-CALNAME:UV Argenteuil
X-ORIGINAL-URL:http://uvargenteuil.fr
X-WR-CALDESC:évènements pour UV Argenteuil
BEGIN:VTIMEZONE
TZID:Europe/Paris
BEGIN:DAYLIGHT
TZOFFSETFROM:+0100
TZOFFSETTO:+0200
TZNAME:CEST
DTSTART:20250330T010000
END:DAYLIGHT
BEGIN:STANDARD
TZOFFSETFROM:+0200
TZOFFSETTO:+0100
TZNAME:CET
DTSTART:20251026T010000
END:STANDARD
END:VTIMEZONE
BEGIN:VEVENT
DTSTART;TZID=Europe/Paris:20250112T080000
DTEND;TZID=Europe/Paris:20250112T140000
DTSTAMP:20260423T235809
CREATED:20241127T100654Z
LAST-MODIFIED:20241127T100941Z
UID:12405-1736668800-1736690400@uvargenteuil.fr
SUMMARY:MARCHE - la Domontoise
DESCRIPTION:Le club de cyclotourisme de Domont organise sa marche hivernale en ce dimanche de janvier. \nAu programme\, deux parcours : \n\nP1 – distance de 12 km\nP2  – distance de 20 km\n\nLe départ se fera entre 8h00 et 9h30 à partir du gymnase des Grands Jardins à Domont. \nCafé\, Thé ou Chocolat au départ. Retour avant 14h00 au même endroit. Parcours entièrement fléchés avec contrôles ravitaillements en cours de parcours. \nEn savoir plus : https://uc-domont.webnode.fr/nos-organisations/la-marche/ \nTarifs :\n– adulte avec licence : 5 €\n– jeune avec licence : gratuit\n– adulte non licencié : 8 €\n– jeune non licencié : 3 € \nLes frais d’inscription des adhérents de l’UVA seront pris en charge par le club.
URL:http://uvargenteuil.fr/event/marche-la-domontoise-3/
LOCATION:DOMONT – Gymnase des Grands Jardins\, Rue Henri-Dunant\, DOMONT\, 95330\, France
CATEGORIES:Pedestre,Sortie
ORGANIZER;CN="UVA%20Philippe":MAILTO:uva.cyclo95@gmail.com
END:VEVENT
END:VCALENDAR