BEGIN:VCALENDAR
VERSION:2.0
PRODID:-//UV Argenteuil - ECPv5.8.1//NONSGML v1.0//EN
CALSCALE:GREGORIAN
METHOD:PUBLISH
X-WR-CALNAME:UV Argenteuil
X-ORIGINAL-URL:http://uvargenteuil.fr
X-WR-CALDESC:évènements pour UV Argenteuil
BEGIN:VTIMEZONE
TZID:Europe/Paris
BEGIN:DAYLIGHT
TZOFFSETFROM:+0100
TZOFFSETTO:+0200
TZNAME:CEST
DTSTART:20230326T010000
END:DAYLIGHT
BEGIN:STANDARD
TZOFFSETFROM:+0200
TZOFFSETTO:+0100
TZNAME:CET
DTSTART:20231029T010000
END:STANDARD
END:VTIMEZONE
BEGIN:VEVENT
DTSTART;TZID=Europe/Paris:20231216T134500
DTEND;TZID=Europe/Paris:20231216T170000
DTSTAMP:20260420T031830
CREATED:20230911T195514Z
LAST-MODIFIED:20230911T195514Z
UID:10461-1702734300-1702746000@uvargenteuil.fr
SUMMARY:JEUNES VTT (9-18 ans)
DESCRIPTION:
URL:http://uvargenteuil.fr/event/jeunes-vtt-9-18-ans-36/
LOCATION:ARGENTEUIL – salle Rino Della Negra\, 9\, rue de Gode\, ARGENTEUIL\, 95100\, France
CATEGORIES:Ecole-Cyclo
END:VEVENT
END:VCALENDAR