BEGIN:VCALENDAR
VERSION:2.0
PRODID:-//UV Argenteuil - ECPv5.8.1//NONSGML v1.0//EN
CALSCALE:GREGORIAN
METHOD:PUBLISH
X-WR-CALNAME:UV Argenteuil
X-ORIGINAL-URL:http://uvargenteuil.fr
X-WR-CALDESC:évènements pour UV Argenteuil
BEGIN:VTIMEZONE
TZID:Europe/Paris
BEGIN:DAYLIGHT
TZOFFSETFROM:+0100
TZOFFSETTO:+0200
TZNAME:CEST
DTSTART:20250330T010000
END:DAYLIGHT
BEGIN:STANDARD
TZOFFSETFROM:+0200
TZOFFSETTO:+0100
TZNAME:CET
DTSTART:20251026T010000
END:STANDARD
END:VTIMEZONE
BEGIN:VEVENT
DTSTART;TZID=Europe/Paris:20251004T143000
DTEND;TZID=Europe/Paris:20251004T173000
DTSTAMP:20260424T015053
CREATED:20251003T064809Z
LAST-MODIFIED:20251003T064809Z
UID:13806-1759588200-1759599000@uvargenteuil.fr
SUMMARY:CLUB - nouvelle tenue
DESCRIPTION:L’histoire de l’UVA s’écrit aussi au travers de ses tenues. Au fils des années\, celles-ci se sont adaptées à l’évolution de la pratique du cyclotourisme et aux modes du moment. Le temps est venu pour un nouveau chapitre. \nPour découvrir le nouveau design élaboré en lien avec la société DmTex\, nous vous attendons ce samedi 4 octobre à la salle Rino-Della-Negra entre 14h30 et 17h30. Des échantillons seront à disposition pour essayer et choisir votre taille. \n  \n 
URL:http://uvargenteuil.fr/event/club-nouvelle-tenue/
LOCATION:ARGENTEUIL – salle Rino Della Negra\, 9\, rue de Gode\, ARGENTEUIL\, 95100\, France
CATEGORIES:Club
ORGANIZER;CN="UVA%20Philippe":MAILTO:uva.cyclo95@gmail.com
END:VEVENT
END:VCALENDAR