BEGIN:VCALENDAR
VERSION:2.0
PRODID:-//UV Argenteuil - ECPv5.8.1//NONSGML v1.0//EN
CALSCALE:GREGORIAN
METHOD:PUBLISH
X-WR-CALNAME:UV Argenteuil
X-ORIGINAL-URL:http://uvargenteuil.fr
X-WR-CALDESC:évènements pour UV Argenteuil
BEGIN:VTIMEZONE
TZID:Europe/Paris
BEGIN:DAYLIGHT
TZOFFSETFROM:+0100
TZOFFSETTO:+0200
TZNAME:CEST
DTSTART:20260329T010000
END:DAYLIGHT
BEGIN:STANDARD
TZOFFSETFROM:+0200
TZOFFSETTO:+0100
TZNAME:CET
DTSTART:20261025T010000
END:STANDARD
END:VTIMEZONE
BEGIN:VEVENT
DTSTART;TZID=Europe/Paris:20260225T084500
DTEND;TZID=Europe/Paris:20260225T163000
DTSTAMP:20260423T121914
CREATED:20260223T081722Z
LAST-MODIFIED:20260223T081830Z
UID:14261-1772009100-1772037000@uvargenteuil.fr
SUMMARY:ROUTE - sortie UVA
DESCRIPTION:La sortie de ce mercredi emmènera les participants jusqu’à Chars pour une distance totale de 90 km. \nPour visionner la trace en détail et télécharger le fichier gpx\, voir sur Strava.
URL:http://uvargenteuil.fr/event/14261/
LOCATION:ARGENTEUIL – Monoprix\, 1\, boulevard Jean-Allemane\, ARGENTEUIL\, 95100\, France
CATEGORIES:Balade cyclo,Cyclo,Sortie
ORGANIZER;CN="UVA%20Philippe":MAILTO:uva.cyclo95@gmail.com
END:VEVENT
END:VCALENDAR